BEGIN:VCALENDAR
VERSION:2.0
PRODID:SchoolNow
CALSCALE:GREGORIAN
BEGIN:VEVENT
UID:c46a18f4-aec3-11f0-a67e-0a58a9feac02
DTSTAMP:20251216T214558Z
SUMMARY:School Photo Day
URL;VALUE=URI:https://schools.shrewsburyma.gov/spring/calendar/8739849/scho
 ol-photo-day
DTSTART;VALUE=DATE:20251029
DTEND;VALUE=DATE:20251030
END:VEVENT
END:VCALENDAR
