BEGIN:VCALENDAR
VERSION:2.0
PRODID:SchoolNow
CALSCALE:GREGORIAN
BEGIN:VEVENT
UID:61a58a08-0f6c-11ee-8dc2-027af5c91315
DTSTAMP:20230727T131222Z
SUMMARY:Spring Street Open House - Aug. 2023
URL;VALUE=URI:https://schools.shrewsburyma.gov/spring/calendar/4413610/spri
 ng-street-open-house
DTSTART:20230828T203000Z
DTEND:20230828T220000Z
END:VEVENT
END:VCALENDAR
