BEGIN:VCALENDAR
VERSION:2.0
PRODID:SchoolNow
CALSCALE:GREGORIAN
BEGIN:VEVENT
UID:91af121c-f940-11eb-bb8a-02a765390fcd
DTSTAMP:20210809T183528Z
SUMMARY:Open House New Students
URL;VALUE=URI:https://schools.shrewsburyma.gov/sherwood/calendar/2661395/op
 en-house-new-students
DTSTART:20210825T190000Z
DTEND:20210825T210000Z
END:VEVENT
END:VCALENDAR
