BEGIN:VCALENDAR
VERSION:2.0
PRODID:SchoolNow
CALSCALE:GREGORIAN
BEGIN:VEVENT
UID:4dc489bc-3e6a-11e9-bb4a-125a10eb9994
DTSTAMP:20190304T104310Z
SUMMARY:Professional Development Day 1/2 Day
URL;VALUE=URI:https://schools.shrewsburyma.gov/sherwood/calendar/1950939/pr
 ofessional-development-day-1-2-day
DTSTART:20190305T130000Z
DTEND:20190305T163500Z
END:VEVENT
END:VCALENDAR
