BEGIN:VCALENDAR
VERSION:2.0
PRODID:SchoolNow
CALSCALE:GREGORIAN
BEGIN:VEVENT
UID:98936cdc-345c-11e9-8d4a-0a07b243df7c
DTSTAMP:20190219T153951Z
SUMMARY:Grade 5 Science MCAS
URL;VALUE=URI:https://schools.shrewsburyma.gov/sherwood/calendar/1946263/gr
 ade-5-science-mcas
DTSTART:20190516T123000Z
DTEND:20190516T150000Z
END:VEVENT
END:VCALENDAR
