BEGIN:VCALENDAR
VERSION:2.0
PRODID:SchoolNow
CALSCALE:GREGORIAN
BEGIN:VEVENT
UID:7312c62e-345c-11e9-bbd1-0a07b243df7c
DTSTAMP:20190219T153848Z
SUMMARY:Grade 5 Science MCAS
URL;VALUE=URI:https://schools.shrewsburyma.gov/sherwood/calendar/1946261/gr
 ade-5-science-mcas
DTSTART:20190515T123000Z
DTEND:20190515T150000Z
END:VEVENT
END:VCALENDAR
