BEGIN:VCALENDAR
VERSION:2.0
PRODID:SchoolNow
CALSCALE:GREGORIAN
BEGIN:VEVENT
UID:30ca0c8c-345c-11e9-b833-0a9ba9de649a
DTSTAMP:20190219T153657Z
SUMMARY:Grade 5 and 6 Math MCAS
URL;VALUE=URI:https://schools.shrewsburyma.gov/sherwood/calendar/1946260/gr
 ade-5-and-6-math-mcas
DTSTART:20190510T123000Z
DTEND:20190510T150000Z
END:VEVENT
END:VCALENDAR
