BEGIN:VCALENDAR
VERSION:2.0
PRODID:SchoolNow
CALSCALE:GREGORIAN
BEGIN:VEVENT
UID:effd7f4a-345b-11e9-bb59-12f6809d36d6
DTSTAMP:20190219T153508Z
SUMMARY:Grade 5 and 6 Math MCAS
URL;VALUE=URI:https://schools.shrewsburyma.gov/sherwood/calendar/1946257/gr
 ade-5-and-6-math-mcas
DTSTART:20190509T123000Z
DTEND:20190509T150000Z
END:VEVENT
END:VCALENDAR
