BEGIN:VCALENDAR
VERSION:2.0
PRODID:SchoolNow
CALSCALE:GREGORIAN
BEGIN:VEVENT
UID:ca060cee-345b-11e9-af3b-12f6809d36d6
DTSTAMP:20190219T153404Z
SUMMARY:Grade 5 and 6 ELA MCAS
URL;VALUE=URI:https://schools.shrewsburyma.gov/sherwood/calendar/1946256/gr
 ade-5-and-6-ela-mcas
DTSTART:20190409T123000Z
DTEND:20190409T150000Z
END:VEVENT
END:VCALENDAR
