BEGIN:VCALENDAR
VERSION:2.0
PRODID:SchoolNow
CALSCALE:GREGORIAN
BEGIN:VEVENT
UID:a46ad9ce-345b-11e9-a336-12f6809d36d6
DTSTAMP:20190219T153301Z
SUMMARY:Grade 5 and 6 ELA MCAS Testing
URL;VALUE=URI:https://schools.shrewsburyma.gov/sherwood/calendar/1946254/gr
 ade-5-and-6-ela-mcas-testing
DTSTART:20190408T123000Z
DTEND:20190408T150000Z
END:VEVENT
END:VCALENDAR
