BEGIN:VCALENDAR
VERSION:2.0
PRODID:SchoolNow
CALSCALE:GREGORIAN
BEGIN:VEVENT
UID:6abed8ee-e391-11e8-9a53-1246e63df7dc
DTSTAMP:20181108T200353Z
SUMMARY:No School Observe Veteran's Day
URL;VALUE=URI:https://schools.shrewsburyma.gov/sherwood/calendar/1904126/no
 -school-observe-veterans-day
DTSTART:20181112T130000Z
DTEND:20181112T193000Z
END:VEVENT
END:VCALENDAR
