BEGIN:VCALENDAR
VERSION:2.0
PRODID:SchoolNow
CALSCALE:GREGORIAN
BEGIN:VEVENT
UID:804a465a-d16f-11e8-bda5-0ac3ad00efea
DTSTAMP:20181016T181545Z
SUMMARY:Picture Re-Takes
URL;VALUE=URI:https://schools.shrewsburyma.gov/sherwood/calendar/1891228/pi
 cture-re-takes
DTSTART:20181026T130000Z
DTEND:20181026T140000Z
END:VEVENT
END:VCALENDAR
