BEGIN:VCALENDAR
VERSION:2.0
PRODID:SchoolNow
CALSCALE:GREGORIAN
BEGIN:VEVENT
UID:50f6d01c-d16f-11e8-87dc-12056f26185a
DTSTAMP:20181016T181426Z
SUMMARY:Middle Schoolers At Risk
LOCATION:Oak Auditorium
URL;VALUE=URI:https://schools.shrewsburyma.gov/sherwood/calendar/1891227/mi
 ddle-schoolers-at-risk
DTSTART:20181113T230000Z
DTEND:20181114T020000Z
END:VEVENT
END:VCALENDAR
