BEGIN:VCALENDAR
VERSION:2.0
PRODID:SchoolNow
CALSCALE:GREGORIAN
BEGIN:VEVENT
UID:ae4a44b8-c5aa-11e8-a938-12b7d9085f38
DTSTAMP:20181001T184909Z
SUMMARY:School Council Meeting
URL;VALUE=URI:https://schools.shrewsburyma.gov/sherwood/calendar/1880848/sc
 hool-council-meeting
DTSTART:20190509T114500Z
DTEND:20190509T123000Z
END:VEVENT
END:VCALENDAR
