BEGIN:VCALENDAR
VERSION:2.0
PRODID:SchoolNow
CALSCALE:GREGORIAN
BEGIN:VEVENT
UID:863b5c32-c5aa-11e8-8b78-0a579f4496d0
DTSTAMP:20181001T184802Z
SUMMARY:School Council Meeting
LOCATION:Sherwood Middle School
URL;VALUE=URI:https://schools.shrewsburyma.gov/sherwood/calendar/1880847/sc
 hool-council-meeting
DTSTART:20190404T114500Z
DTEND:20190404T123000Z
END:VEVENT
END:VCALENDAR
