BEGIN:VCALENDAR
VERSION:2.0
PRODID:SchoolNow
CALSCALE:GREGORIAN
BEGIN:VEVENT
UID:599e0e4a-c5aa-11e8-aaa8-1225491b25cc
DTSTAMP:20181001T184647Z
SUMMARY:School Council Meeting
LOCATION:Sherwood Middle School
URL;VALUE=URI:https://schools.shrewsburyma.gov/sherwood/calendar/1880846/sc
 hool-council-meeting
DTSTART:20190228T124500Z
DTEND:20190228T133000Z
END:VEVENT
END:VCALENDAR
