BEGIN:VCALENDAR
VERSION:2.0
PRODID:SchoolNow
CALSCALE:GREGORIAN
BEGIN:VEVENT
UID:101c560a-c5aa-11e8-a0a2-0a795e869058
DTSTAMP:20181001T184444Z
SUMMARY:School Council Meeting
LOCATION:Sherwood Middle School
URL;VALUE=URI:https://schools.shrewsburyma.gov/sherwood/calendar/1880693/sc
 hool-council-meeting
DTSTART:20190124T124500Z
DTEND:20190124T133000Z
END:VEVENT
END:VCALENDAR
