BEGIN:VCALENDAR
VERSION:2.0
PRODID:SchoolNow
CALSCALE:GREGORIAN
BEGIN:VEVENT
UID:5937e800-c5a9-11e8-a97f-0a795e869058
DTSTAMP:20181204T190329Z
SUMMARY:SMS Council Meeting
LOCATION:Sherwood Middle School
URL;VALUE=URI:https://schools.shrewsburyma.gov/sherwood/calendar/1880690/sc
 hool-council-meeting
DTSTART:20181206T124500Z
DTEND:20181206T133000Z
END:VEVENT
END:VCALENDAR
