BEGIN:VCALENDAR
VERSION:2.0
PRODID:SchoolNow
CALSCALE:GREGORIAN
BEGIN:VEVENT
UID:3049b77a-c5a9-11e8-847a-126350370ef2
DTSTAMP:20181001T184101Z
SUMMARY:School Council Meeting
LOCATION:Sherwood Middle School
URL;VALUE=URI:https://schools.shrewsburyma.gov/sherwood/calendar/1880689/sc
 hool-council-meeting
DTSTART:20181018T114500Z
DTEND:20181018T123000Z
END:VEVENT
END:VCALENDAR
