BEGIN:VCALENDAR
VERSION:2.0
PRODID:SchoolNow
CALSCALE:GREGORIAN
BEGIN:VEVENT
UID:cddf3f38-c02b-11e8-8e5c-1289266040fc
DTSTAMP:20180924T185820Z
SUMMARY:Picture Day
URL;VALUE=URI:https://schools.shrewsburyma.gov/sherwood/calendar/1874872/pi
 cture-day
DTSTART:20180928T120000Z
DTEND:20180928T130000Z
END:VEVENT
END:VCALENDAR
