BEGIN:VCALENDAR
VERSION:2.0
PRODID:SchoolNow
CALSCALE:GREGORIAN
BEGIN:VEVENT
UID:5d935db8-c02b-11e8-8943-0adc5ba633d0
DTSTAMP:20180924T185512Z
SUMMARY:Speech Team Information Meeting (Students Only)
LOCATION:Sherwood Media Center
URL;VALUE=URI:https://schools.shrewsburyma.gov/sherwood/calendar/1874867/sp
 eech-team-information-meeting-students-only
DTSTART:20181001T190000Z
DTEND:20181001T200000Z
END:VEVENT
END:VCALENDAR
