BEGIN:VCALENDAR
VERSION:2.0
PRODID:SchoolNow
CALSCALE:GREGORIAN
BEGIN:VEVENT
UID:a952133e-a6db-11e8-a583-12a2b3cdf768
DTSTAMP:20180823T135140Z
SUMMARY:PD Day - No School
URL;VALUE=URI:https://schools.shrewsburyma.gov/sherwood/calendar/1840953/pd
 -day-no-school
DTSTART:20180823T120000Z
DTEND:20180823T183000Z
END:VEVENT
END:VCALENDAR
