BEGIN:VCALENDAR
VERSION:2.0
PRODID:SchoolNow
CALSCALE:GREGORIAN
BEGIN:VEVENT
UID:1d81bc2c-4715-11e8-bbd3-1256406b274c
DTSTAMP:20180423T164240Z
SUMMARY:Strings Concert
LOCATION:Sherwood Middle School
URL;VALUE=URI:https://schools.shrewsburyma.gov/sherwood/calendar/1769254/st
 rings-concert
DTSTART:20180524T230000Z
DTEND:20180525T010000Z
END:VEVENT
END:VCALENDAR
