BEGIN:VCALENDAR
VERSION:2.0
PRODID:SchoolNow
CALSCALE:GREGORIAN
BEGIN:VEVENT
UID:44ff6180-38f8-11e8-ac38-12757cfb8be4
DTSTAMP:20180410T132205Z
SUMMARY:MCAS SCIENCE SESSION 2 GRADE 5
URL;VALUE=URI:https://schools.shrewsburyma.gov/sherwood/calendar/1744884/mc
 as-science-session-2-grade-5
DTSTART:20180518T120000Z
DTEND:20180518T180000Z
END:VEVENT
END:VCALENDAR
