BEGIN:VCALENDAR
VERSION:2.0
PRODID:SchoolNow
CALSCALE:GREGORIAN
BEGIN:VEVENT
UID:301bb0ac-38f8-11e8-b2e5-12757cfb8be4
DTSTAMP:20180410T132246Z
SUMMARY:MCAS SCIENCE SESSION 1 GRADE 5
URL;VALUE=URI:https://schools.shrewsburyma.gov/sherwood/calendar/1744883/mc
 as-science-session-1-grade-5
DTSTART:20180517T120000Z
DTEND:20180517T180000Z
END:VEVENT
END:VCALENDAR
