BEGIN:VCALENDAR
VERSION:2.0
PRODID:SchoolNow
CALSCALE:GREGORIAN
BEGIN:VEVENT
UID:0fcc8128-38f8-11e8-a9e4-12757cfb8be4
DTSTAMP:20180410T132731Z
SUMMARY:MCAS MATH SESSION 2 GRADE 5 & 6
URL;VALUE=URI:https://schools.shrewsburyma.gov/sherwood/calendar/1744882/mc
 as-math-session-2-grade-5-6
DTSTART:20180503T120000Z
DTEND:20180503T180000Z
END:VEVENT
END:VCALENDAR
