BEGIN:VCALENDAR
VERSION:2.0
PRODID:SchoolNow
CALSCALE:GREGORIAN
BEGIN:VEVENT
UID:3476b2f6-38f7-11e8-bb1a-0a964e8ecf64
DTSTAMP:20180410T132341Z
SUMMARY:MCAS MATH SESSION 1 GRADE 5 & 6
URL;VALUE=URI:https://schools.shrewsburyma.gov/sherwood/calendar/1744881/mc
 as-math-session-1-grade-5-6
DTSTART:20180502T120000Z
DTEND:20180502T180000Z
END:VEVENT
END:VCALENDAR
