BEGIN:VCALENDAR
VERSION:2.0
PRODID:SchoolNow
CALSCALE:GREGORIAN
BEGIN:VEVENT
UID:66efb726-2706-11e8-9b7b-0a7e5c0fd1de
DTSTAMP:20180313T213508Z
SUMMARY:Memorial Day/No School
URL;VALUE=URI:https://schools.shrewsburyma.gov/sherwood/calendar/1737118/me
 morial-day-no-school
DTSTART:20180528T040000Z
DTEND:20180529T035959Z
END:VEVENT
END:VCALENDAR
