BEGIN:VCALENDAR
VERSION:2.0
PRODID:SchoolNow
CALSCALE:GREGORIAN
BEGIN:VEVENT
UID:66ef3616-2706-11e8-9e7d-0a7e5c0fd1de
DTSTAMP:20180410T132456Z
SUMMARY:Professional Development Day/Early Release
URL;VALUE=URI:https://schools.shrewsburyma.gov/sherwood/calendar/1737112/pr
 ofessional-development-day-early-release
DTSTART:20180501T120000Z
DTEND:20180501T153500Z
END:VEVENT
END:VCALENDAR
