BEGIN:VCALENDAR
VERSION:2.0
PRODID:SchoolNow
CALSCALE:GREGORIAN
BEGIN:VEVENT
UID:c0e035be-3a65-11f1-8535-0a58a9feac02
DTSTAMP:20260417T140012Z
SUMMARY:Workshop Meeting
LOCATION:Shrewsbury High School - 75 Cypress Avenue - Room M126D Principal'
 s Conference Room
URL;VALUE=URI:https://schools.shrewsburyma.gov/sc/calendar/9000940/workshop
 -meeting-clone-clone-clone
DTSTART:20260423T230000Z
DTEND:20260424T010000Z
END:VEVENT
END:VCALENDAR
