BEGIN:VCALENDAR
VERSION:2.0
PRODID:SchoolNow
CALSCALE:GREGORIAN
BEGIN:VEVENT
UID:0936f5ec-3849-11f1-96de-0a58a9feac02
DTSTAMP:20260414T212936Z
SUMMARY:School Committee Meeting
URL;VALUE=URI:https://schools.shrewsburyma.gov/sc/calendar/8994056/school-c
 ommittee-meeting-clone
DTSTART:20260416T210000Z
DTEND:20260416T213000Z
END:VEVENT
END:VCALENDAR
