BEGIN:VCALENDAR
VERSION:2.0
PRODID:SchoolNow
CALSCALE:GREGORIAN
BEGIN:VEVENT
UID:6802bef8-34fc-11f1-ab88-0e9167dfd171
DTSTAMP:20260410T164421Z
SUMMARY:School Committee Meeting
URL;VALUE=URI:https://schools.shrewsburyma.gov/sc/calendar/8984181/school-c
 ommittee-meeting
DTSTART:20260414T200000Z
DTEND:20260414T203000Z
END:VEVENT
END:VCALENDAR
