BEGIN:VCALENDAR
VERSION:2.0
PRODID:SchoolNow
CALSCALE:GREGORIAN
BEGIN:VEVENT
UID:3c92eea8-34ea-11f1-a334-0e3d85dc0a91
DTSTAMP:20260410T143326Z
SUMMARY:Workshop Meeting
LOCATION:Shrewsbury High School - 75 Cypress Avenue - Room M212 Class of 20
 02 Conference Room
URL;VALUE=URI:https://schools.shrewsburyma.gov/sc/calendar/8984144/workshop
 -meeting-clone-clone-clone
DTSTART:20260414T223000Z
DTEND:20260415T003000Z
END:VEVENT
END:VCALENDAR
