BEGIN:VCALENDAR
VERSION:2.0
PRODID:SchoolNow
CALSCALE:GREGORIAN
BEGIN:VEVENT
UID:86645c48-32af-11f1-89cd-0a58a9feac02
DTSTAMP:20260407T182808Z
SUMMARY:Workshop Meeting
LOCATION:Shrewsbury High School - 75 Cypress Avenue - Room M212 Class of 20
 02 Conference Room
URL;VALUE=URI:https://schools.shrewsburyma.gov/sc/calendar/8977671/workshop
 -meeting-clone-clone
DTSTART:20260409T230000Z
DTEND:20260410T010000Z
END:VEVENT
END:VCALENDAR
