BEGIN:VCALENDAR
VERSION:2.0
PRODID:SchoolNow
CALSCALE:GREGORIAN
BEGIN:VEVENT
UID:09599b6e-32af-11f1-8f31-0a58a9feac02
DTSTAMP:20260407T182438Z
SUMMARY:Superintendent Search Screening Committee Meeting
LOCATION:Shrewsbury High School - 75 Cypress Avenue - Room M126D Principal'
 s Conference Room
URL;VALUE=URI:https://schools.shrewsburyma.gov/sc/calendar/8977667/superint
 endent-search-screening-committee-meeting-clone-clone
DTSTART:20260409T224500Z
DTEND:20260409T230000Z
END:VEVENT
END:VCALENDAR
