BEGIN:VCALENDAR
VERSION:2.0
PRODID:SchoolNow
CALSCALE:GREGORIAN
BEGIN:VEVENT
UID:e5bb5790-577d-11f0-8e43-0a58a9feac02
DTSTAMP:20250827T134647Z
SUMMARY:Regular Meeting
LOCATION:Selectmen's Room\, Town Hall\, 100 Maple Avenue
URL;VALUE=URI:https://schools.shrewsburyma.gov/sc/calendar/8378565/regular-
 meeting-clone-clone-clone-clone-clone-clone-clone-clone-clone-clone-clone-
 clone-clone-clone-clone-clone-clone-clone-clone-clone-clone-clone-clone-cl
 one-clone-clone-clone-clone-clone-clone-clone-clone-clone-clone
DTSTART:20260603T230000Z
DTEND:20260604T020000Z
END:VEVENT
END:VCALENDAR
