BEGIN:VCALENDAR
VERSION:2.0
PRODID:SchoolNow
CALSCALE:GREGORIAN
BEGIN:VEVENT
UID:d98d5c7a-577d-11f0-83bf-0a58a9feac02
DTSTAMP:20250827T134639Z
SUMMARY:Regular Meeting
LOCATION:Selectmen's Room\, Town Hall\, 100 Maple Avenue
URL;VALUE=URI:https://schools.shrewsburyma.gov/sc/calendar/8378564/regular-
 meeting-clone-clone-clone-clone-clone-clone-clone-clone-clone-clone-clone-
 clone-clone-clone-clone-clone-clone-clone-clone-clone-clone-clone-clone-cl
 one-clone-clone-clone-clone-clone-clone-clone-clone-clone-clone-clone-clon
 e-clone-clone-clone-clone
DTSTART:20260513T230000Z
DTEND:20260514T020000Z
END:VEVENT
END:VCALENDAR
