BEGIN:VCALENDAR
VERSION:2.0
PRODID:SchoolNow
CALSCALE:GREGORIAN
BEGIN:VEVENT
UID:c2de0704-577d-11f0-9aa2-0a58a9feac02
DTSTAMP:20250827T134631Z
SUMMARY:Regular Meeting
LOCATION:Selectmen's Room\, Town Hall\, 100 Maple Avenue
URL;VALUE=URI:https://schools.shrewsburyma.gov/sc/calendar/8378563/regular-
 meeting-clone-clone-clone-clone-clone-clone-clone-clone-clone-clone-clone-
 clone-clone-clone-clone-clone-clone-clone-clone-clone-clone-clone-clone-cl
 one-clone-clone-clone-clone-clone-clone-clone-clone-clone-clone-clone-clon
 e-clone-clone-clone-clone
DTSTART:20260429T230000Z
DTEND:20260430T020000Z
END:VEVENT
END:VCALENDAR
