BEGIN:VCALENDAR
VERSION:2.0
PRODID:SchoolNow
CALSCALE:GREGORIAN
BEGIN:VEVENT
UID:9b2c3d3e-1bc7-11f1-81b2-0221fbe23d43
DTSTAMP:20260309T145234Z
SUMMARY:Grade 4 celebration
URL;VALUE=URI:https://schools.shrewsburyma.gov/paton/calendar/8904211/grade
 -4-celebration
DTSTART;VALUE=DATE:20260618
DTEND;VALUE=DATE:20260619
END:VEVENT
END:VCALENDAR
