BEGIN:VCALENDAR
VERSION:2.0
PRODID:SchoolNow
CALSCALE:GREGORIAN
BEGIN:VEVENT
UID:81f27cac-1bc7-11f1-b8f3-0a58a9feac02
DTSTAMP:20260309T145151Z
SUMMARY:Field Day
URL;VALUE=URI:https://schools.shrewsburyma.gov/paton/calendar/8904210/field
 -day
DTSTART;VALUE=DATE:20260611
DTEND;VALUE=DATE:20260612
END:VEVENT
END:VCALENDAR
