BEGIN:VCALENDAR
VERSION:2.0
PRODID:SchoolNow
CALSCALE:GREGORIAN
BEGIN:VEVENT
UID:39599d50-0767-11f1-878d-0afff8bfbea1
DTSTAMP:20260211T163215Z
SUMMARY:Outdoor Movie Night
URL;VALUE=URI:https://schools.shrewsburyma.gov/paton/calendar/8853269/outdo
 or-movie-night
DTSTART:20260326T220000Z
DTEND:20260326T230000Z
END:VEVENT
END:VCALENDAR
