BEGIN:VCALENDAR
VERSION:2.0
PRODID:SchoolNow
CALSCALE:GREGORIAN
BEGIN:VEVENT
UID:1f380b1e-0767-11f1-bb0f-0a58a9feac02
DTSTAMP:20260211T163131Z
SUMMARY:Paton Trivia night at Oak Middle School
URL;VALUE=URI:https://schools.shrewsburyma.gov/paton/calendar/8853268/paton
 -trivia-night-at-oak-middle-school
DTSTART:20260226T230000Z
DTEND:20260227T010000Z
END:VEVENT
END:VCALENDAR
