BEGIN:VCALENDAR
VERSION:2.0
PRODID:SchoolNow
CALSCALE:GREGORIAN
BEGIN:VEVENT
UID:79f5f2d0-02c3-11f1-9267-0e0a1100e6c7
DTSTAMP:20260205T185001Z
SUMMARY:Early release day-12:30 dismissal
URL;VALUE=URI:https://schools.shrewsburyma.gov/paton/calendar/8850060/early
 -release-day-12-30-dismissal
DTSTART;VALUE=DATE:20260407
DTEND;VALUE=DATE:20260408
END:VEVENT
END:VCALENDAR
