BEGIN:VCALENDAR
VERSION:2.0
PRODID:SchoolNow
CALSCALE:GREGORIAN
BEGIN:VEVENT
UID:6a09c090-02c3-11f1-9f2c-0a58a9feac02
DTSTAMP:20260205T184934Z
SUMMARY:Early release day-12:30 dismissal
URL;VALUE=URI:https://schools.shrewsburyma.gov/paton/calendar/8850059/early
 -release-day-12-30-dismissal
DTSTART;VALUE=DATE:20260303
DTEND;VALUE=DATE:20260304
END:VEVENT
END:VCALENDAR
