BEGIN:VCALENDAR
VERSION:2.0
PRODID:SchoolNow
CALSCALE:GREGORIAN
BEGIN:VEVENT
UID:24fddaa8-0067-11f1-8c7e-02039515c9a7
DTSTAMP:20260202T184402Z
SUMMARY:Presidents Day-No school
URL;VALUE=URI:https://schools.shrewsburyma.gov/paton/calendar/8847916/presi
 dents-day-no-school
DTSTART;VALUE=DATE:20260216
DTEND;VALUE=DATE:20260217
END:VEVENT
END:VCALENDAR
