BEGIN:VCALENDAR
VERSION:2.0
PRODID:SchoolNow
CALSCALE:GREGORIAN
BEGIN:VEVENT
UID:d4917876-ceee-11f0-8e6e-0affdcfcd8a3
DTSTAMP:20251201T194921Z
SUMMARY:Grade four choral concert
URL;VALUE=URI:https://schools.shrewsburyma.gov/paton/calendar/8814786/grade
 -four-choral-concert
DTSTART;VALUE=DATE:20251217
DTEND;VALUE=DATE:20251218
END:VEVENT
END:VCALENDAR
