BEGIN:VCALENDAR
VERSION:2.0
PRODID:SchoolNow
CALSCALE:GREGORIAN
BEGIN:VEVENT
UID:dc5b881e-bfe7-11f0-adef-0229348720a9
DTSTAMP:20251112T165140Z
SUMMARY:No School-MLK Day
URL;VALUE=URI:https://schools.shrewsburyma.gov/paton/calendar/8792001/no-sc
 hool-mlk-day
DTSTART;VALUE=DATE:20260119
DTEND;VALUE=DATE:20260120
END:VEVENT
END:VCALENDAR
