BEGIN:VCALENDAR
VERSION:2.0
PRODID:SchoolNow
CALSCALE:GREGORIAN
BEGIN:VEVENT
UID:b10d44cc-bfe7-11f0-a28f-0afff3d351ff
DTSTAMP:20251112T165027Z
SUMMARY:No School-December vacation
URL;VALUE=URI:https://schools.shrewsburyma.gov/paton/calendar/8792000/no-sc
 hool-december-vacation
DTSTART;VALUE=DATE:20251224
DTEND;VALUE=DATE:20260103
END:VEVENT
END:VCALENDAR
