BEGIN:VCALENDAR
VERSION:2.0
PRODID:SchoolNow
CALSCALE:GREGORIAN
BEGIN:VEVENT
UID:8a3a5c68-bfe7-11f0-a658-0afffa06ec9d
DTSTAMP:20251112T170013Z
SUMMARY:Early release day\, 12:30 dismissal-Professional Development day
URL;VALUE=URI:https://schools.shrewsburyma.gov/paton/calendar/8791999/no-sc
 hool-professional-development-day
DTSTART;VALUE=DATE:20251209
DTEND;VALUE=DATE:20251210
END:VEVENT
END:VCALENDAR
