BEGIN:VCALENDAR
VERSION:2.0
PRODID:SchoolNow
CALSCALE:GREGORIAN
BEGIN:VEVENT
UID:a706909a-b4da-11f0-8fec-0affda30926b
DTSTAMP:20251029T151924Z
SUMMARY:No School-Thanksgiving Break
URL;VALUE=URI:https://schools.shrewsburyma.gov/paton/calendar/8759294/no-sc
 hool-thanksgiving-break
DTSTART;VALUE=DATE:20251126
DTEND;VALUE=DATE:20251129
END:VEVENT
END:VCALENDAR
